BEGIN:VCALENDAR
VERSION:2.0
PRODID:-//Just Roots - ECPv6.14.2//NONSGML v1.0//EN
CALSCALE:GREGORIAN
METHOD:PUBLISH
X-ORIGINAL-URL:https://justroots.org
X-WR-CALDESC:Events for Just Roots
REFRESH-INTERVAL;VALUE=DURATION:PT1H
X-Robots-Tag:noindex
X-PUBLISHED-TTL:PT1H
BEGIN:VTIMEZONE
TZID:America/New_York
BEGIN:DAYLIGHT
TZOFFSETFROM:-0500
TZOFFSETTO:-0400
TZNAME:EDT
DTSTART:20260308T070000
END:DAYLIGHT
BEGIN:STANDARD
TZOFFSETFROM:-0400
TZOFFSETTO:-0500
TZNAME:EST
DTSTART:20261101T060000
END:STANDARD
END:VTIMEZONE
BEGIN:VEVENT
DTSTART;TZID=America/New_York:20260527T160000
DTEND;TZID=America/New_York:20260527T190000
DTSTAMP:20260423T161654
CREATED:20260409T114021Z
LAST-MODIFIED:20260409T114039Z
UID:11513-1779897600-1779908400@justroots.org
SUMMARY:Working Towards Better Soil: Farmer Exchange & Networking Event
DESCRIPTION:Join Just Roots and NOFA/Mass for a farmer-to-farmer field walk exploring how soil health practices can take shape on a small\, diversified production farm. We’re coming together to share practical knowledge and experience. This is an opportunity to share real-world experience—what’s working\, what isn’t\, and what we’re all still figuring out. \nCLICK HERE TO REGISTER \nTogether\, we’ll walk the farm and look closely at a few of our current experiments & systems\, including: \n\nNo-till beds within a mixed till/no-till production system\nNative pollinator plantings as part of a soil-building strategy\nPerennial hedgerow strips (apple\, dogwood\, beach plum)integrated into annual fields\nTrial-and-error lessons from running a high-value small farm while building soil\n\nThis is a casual\, farmer-led exchange. Come with questions\, ideas\, and your own experiences to share.  After the tour\, we’ll gather for a light dinner & a conversation about how this work connects to the Healthy Soils Action Plan. \nJoin Just Roots and NOFA/Mass for a farmer-to-farmer field walk exploring how soil health practices can take shape on a small\, diversified production farm. We’re coming together to share practical knowledge and experience. This is an opportunity to share real-world experience—what’s working\, what isn’t\, and what we’re all still figuring out. \nTogether\, we’ll walk the farm and look closely at a few of our current experiments & systems\, including: \n\nNo-till beds within a mixed till/no-till production system\nNative pollinator plantings as part of a soil-building strategy\nPerennial hedgerow strips (apple\, dogwood\, beach plum)integrated into annual fields\nTrial-and-error lessons from running a high-value small farm while building soil\n\nThis is a casual\, farmer-led exchange. Come with questions\, ideas\, and your own experiences to share.  After the tour\, we’ll gather for a light dinner & a conversation about how this work connects to the Healthy Soils Action Plan. \nContact Hannah at hannah@nofamass.org with any questions \nCLICK HERE TO REGISTER \n 
URL:https://justroots.org/event/working-towards-better-soil-farmer-exchange-networking-event/
LOCATION:Just Roots\, 34 Glenbrook Dr\, Greenfield\, MA\, 01301\, United States
ATTACH;FMTTYPE=image/avif:https://justroots.org/wp-content/uploads/2026/04/Just-Roots-event-web.avif
END:VEVENT
END:VCALENDAR